BEGIN:VCALENDAR
VERSION:2.0
PRODID:-//Oliver Finley Site - ECPv6.15.20//NONSGML v1.0//EN
CALSCALE:GREGORIAN
METHOD:PUBLISH
X-ORIGINAL-URL:https://oliverfinley.com
X-WR-CALDESC:Events for Oliver Finley Site
REFRESH-INTERVAL;VALUE=DURATION:PT1H
X-Robots-Tag:noindex
X-PUBLISHED-TTL:PT1H
BEGIN:VTIMEZONE
TZID:America/Boise
BEGIN:DAYLIGHT
TZOFFSETFROM:-0700
TZOFFSETTO:-0600
TZNAME:MDT
DTSTART:20250309T090000
END:DAYLIGHT
BEGIN:STANDARD
TZOFFSETFROM:-0600
TZOFFSETTO:-0700
TZNAME:MST
DTSTART:20251102T080000
END:STANDARD
BEGIN:DAYLIGHT
TZOFFSETFROM:-0700
TZOFFSETTO:-0600
TZNAME:MDT
DTSTART:20260308T090000
END:DAYLIGHT
BEGIN:STANDARD
TZOFFSETFROM:-0600
TZOFFSETTO:-0700
TZNAME:MST
DTSTART:20261101T080000
END:STANDARD
BEGIN:DAYLIGHT
TZOFFSETFROM:-0700
TZOFFSETTO:-0600
TZNAME:MDT
DTSTART:20270314T090000
END:DAYLIGHT
BEGIN:STANDARD
TZOFFSETFROM:-0600
TZOFFSETTO:-0700
TZNAME:MST
DTSTART:20271107T080000
END:STANDARD
END:VTIMEZONE
BEGIN:VEVENT
DTSTART;TZID=America/Boise:20260421T150000
DTEND;TZID=America/Boise:20260421T160000
DTSTAMP:20260425T090921
CREATED:20260316T132229Z
LAST-MODIFIED:20260409T174424Z
UID:10000520-1776783600-1776787200@oliverfinley.com
SUMMARY:Sculpt Aesthetics: Nurse Injector and Estheticians
DESCRIPTION:Overview: The synergy of Nurse Injectors and Estheticians:  Aesthetics isn’t just about beauty\, it’s about confidence\, connection\, and collaboration. When injectors and estheticians work together\, patients don’t just look better… they feel better.  And that’s why we do what we do. \n\n\n\nWhat does a Nurse Injector do (scope)\nWhat does an esthetician do (you know already)\nHow do we compliment each other\nReal life stories\nWhat it means for future estheticians\n\n\n\n \n\nKATIE TURNBULL\, MSN\, APRN\, FNP-C \nOWNER & INJECTOR \nKatie began her nursing career 20 years ago in the demanding environment of the Intensive Care Unit\, where she honed her nursing skills in critical care and developed a deep understanding of patient needs. Her passion for comprehensive patient care led her to pursue a career as a Family Nurse Practitioner\, allowing her to build strong\, lasting relationships with her patients and provide holistic care. Driven by a desire to merge her medical expertise with her passion for aesthetics\, Katie ventured into the field of medical aesthetics over 10 years ago. She has since earned certifications and participates in numerous trainings in the latest aesthetic techniques and technologies. Her meticulous attention to detail and commitment to excellence have made Sculpt Aesthetics a trusted destination for those seeking top-tier aesthetic treatments. At Sculpt Aesthetics\, Katie leads a dedicated team of professionals who share her vision of enhancing natural beauty and promoting overall wellness. Her approach is characterized by personalized care plans\, cutting-edge treatments\, and an unwavering commitment to patient safety and satisfaction. When not at Sculpt\, Katie enjoys spending time with her husband and fraternal twin girls. Her family has an itch for traveling and also enjoys boating\, camping\, and being around friends and family. \n \nTAMMI MARKS\, MSHI\, RN \nAESTHETIC NURSE INJECTOR \nTammi is originally from North Idaho. After high school\, she went south to attend Boise State University and never looked back! Family is everything to Tammi! She is a proud wife\, mother of three\, bonus mother\, and grandma! Tammi has over 30 years of healthcare experience across various roles ranging from clinical settings such as the Operating Room\, to Clinical Informatics. She brings a wealth of knowledge and expertise to the field and has had the amazing opportunity to explore many different roles in Nursing. Tammi is passionate about education and driven by results and patient safety. Tammi has spent the last few years as an Aesthetic Nurse and loves every minute of it. When not spending time at Sculpt\, Tammi enjoys traveling the world with her husband and she loves being in the outdoors riding her mountain bike\, hot yoga and spending time with her kids and grandkids.
URL:https://oliverfinley.com/event/sculp-aesthetics-class/
LOCATION:Oliver Finley Academy\, 6843 N Strawberry Glen\, Boise\, ID\, 83714\, United States
ORGANIZER;CN="Emily Robinson":MAILTO:emilyrobinson@oliverfinley.com
END:VEVENT
END:VCALENDAR