BEGIN:VCALENDAR
VERSION:2.0
PRODID:-//Oliver Finley Site - ECPv6.15.20//NONSGML v1.0//EN
CALSCALE:GREGORIAN
METHOD:PUBLISH
X-ORIGINAL-URL:https://oliverfinley.com
X-WR-CALDESC:Events for Oliver Finley Site
REFRESH-INTERVAL;VALUE=DURATION:PT1H
X-Robots-Tag:noindex
X-PUBLISHED-TTL:PT1H
BEGIN:VTIMEZONE
TZID:America/Boise
BEGIN:DAYLIGHT
TZOFFSETFROM:-0700
TZOFFSETTO:-0600
TZNAME:MDT
DTSTART:20250309T090000
END:DAYLIGHT
BEGIN:STANDARD
TZOFFSETFROM:-0600
TZOFFSETTO:-0700
TZNAME:MST
DTSTART:20251102T080000
END:STANDARD
BEGIN:DAYLIGHT
TZOFFSETFROM:-0700
TZOFFSETTO:-0600
TZNAME:MDT
DTSTART:20260308T090000
END:DAYLIGHT
BEGIN:STANDARD
TZOFFSETFROM:-0600
TZOFFSETTO:-0700
TZNAME:MST
DTSTART:20261101T080000
END:STANDARD
BEGIN:DAYLIGHT
TZOFFSETFROM:-0700
TZOFFSETTO:-0600
TZNAME:MDT
DTSTART:20270314T090000
END:DAYLIGHT
BEGIN:STANDARD
TZOFFSETFROM:-0600
TZOFFSETTO:-0700
TZNAME:MST
DTSTART:20271107T080000
END:STANDARD
END:VTIMEZONE
BEGIN:VEVENT
DTSTART;TZID=America/Boise:20260604T103000
DTEND;TZID=America/Boise:20260604T153000
DTSTAMP:20260425T050931
CREATED:20260126T213901Z
LAST-MODIFIED:20260126T214125Z
UID:10000501-1780569000-1780587000@oliverfinley.com
SUMMARY:Fourth of July Nail Art
DESCRIPTION:Nails: Fourth of July Art\n\nOverview: Learn fundamentals of nail art with Fourth of July-inspired designs.\nPrerequisites: Completion of nails portion of program; must bring art brushes; arrive with bare nails (no polish)\nCapacity: 8\nLocation: Nails Classroom\nTime: 10:30AM – 3:30PM
URL:https://oliverfinley.com/event/fourth-of-july-nail-art/
LOCATION:Oliver Finley Academy\, 6843 N Strawberry Glen\, Boise\, ID\, 83714\, United States
CATEGORIES:Cosmetology,Nail Art
ORGANIZER;CN="Emily Robinson":MAILTO:emilyrobinson@oliverfinley.com
END:VEVENT
BEGIN:VEVENT
DTSTART;TZID=America/Boise:20260618T103000
DTEND;TZID=America/Boise:20260618T153000
DTSTAMP:20260425T050931
CREATED:20260126T213446Z
LAST-MODIFIED:20260126T213446Z
UID:10000499-1781778600-1781796600@oliverfinley.com
SUMMARY:Spa Pedicure Refresher Class
DESCRIPTION:Nails: Spa Pedi Refresher\n*Open to Cosmetology students and alumni only \nPrerequisite: Must have completed the nails portion of their program. Students may NOT sign up if they have prior commitments; such as\, dispense\, sanitation\, another department class or a already scheduled client. \nExchange full spa pedicures to refresh their knowledge of the spa pedicure protocol learned in basics\, as well as a spa upgrade and some advanced massage techniques. \nMax Capacity: 6 \nLocation: Nails Classroom \n  \nRegistration Policy: Please check prerequisites prior to registering for a class. You may not register if you have any other prior commitment\, including dispense\, laundry\, salon host\, freshman class\, or a client appointment. \nCancellations: Cancellations must be submitted a minimum of 24 hours in advance. Same day cancellations for current students are not allowed. \nAttendance: Attendance taken at the start of class\, anymore more than 10 minutes late will have their schedule reopened to take appointments. You may not register if you have any other prior commitment\, including dispense\, laundry\, salon host\, freshman class\, or a client appointment.
URL:https://oliverfinley.com/event/spa-pedicure-refresher-class-11/
LOCATION:Oliver Finley Academy\, 6843 N Strawberry Glen\, Boise\, ID\, 83714\, United States
ORGANIZER;CN="Emily Robinson":MAILTO:emilyrobinson@oliverfinley.com
END:VEVENT
BEGIN:VEVENT
DTSTART;TZID=America/Boise:20260625T103000
DTEND;TZID=America/Boise:20260625T153000
DTSTAMP:20260425T050931
CREATED:20260126T213533Z
LAST-MODIFIED:20260126T213533Z
UID:10000500-1782383400-1782401400@oliverfinley.com
SUMMARY:Acrylic Nails Enhancements
DESCRIPTION:Acrylic Enhancements\n*Open to Cosmetology students and alumni only \nPrerequisite: Must have completed the nails portion of their program and bring their own acrylic brushes. Students may NOT sign up for the class if they have prior commitments; such as dispense\, sanitation\, another departments class or a already scheduled client. \nLearn the fundamentals of proper acrylic application\, including ratio control\, product safety\, brush maintenance\, finish filing\, and how to extend a nail using tips. Students must provide their own brushes. Tammy Taylor Nails Official Retail Site \nMax Capacity: 6 \nLocation: Nails Classroom \nRegistration Policy: Please check prerequisites prior to registering for a class. You may not register if you have any other prior commitment\, including dispense\, laundry\, salon host\, freshman class\, or a client appointment. \nCancellations: Cancellations must be submitted a minimum of 24 hours in advance. Same day cancellations for current students are not allowed. \nAttendance: Attendance taken at the start of class\, anymore more than 10 minutes late will have their schedule reopened to take appointments. You may not register if you have any other prior commitment\, including dispense\, laundry\, salon host\, freshman class\, or a client appointment.
URL:https://oliverfinley.com/event/acrylic-nails-enhancements-3/
LOCATION:Oliver Finley Academy\, 6843 N Strawberry Glen\, Boise\, ID\, 83714\, United States
ORGANIZER;CN="Emily Robinson":MAILTO:emilyrobinson@oliverfinley.com
END:VEVENT
END:VCALENDAR