BEGIN:VCALENDAR
VERSION:2.0
PRODID:-//Oliver Finley Site - ECPv6.15.20//NONSGML v1.0//EN
CALSCALE:GREGORIAN
METHOD:PUBLISH
X-WR-CALNAME:Oliver Finley Site
X-ORIGINAL-URL:https://oliverfinley.com
X-WR-CALDESC:Events for Oliver Finley Site
REFRESH-INTERVAL;VALUE=DURATION:PT1H
X-Robots-Tag:noindex
X-PUBLISHED-TTL:PT1H
BEGIN:VTIMEZONE
TZID:America/Boise
BEGIN:DAYLIGHT
TZOFFSETFROM:-0700
TZOFFSETTO:-0600
TZNAME:MDT
DTSTART:20230312T090000
END:DAYLIGHT
BEGIN:STANDARD
TZOFFSETFROM:-0600
TZOFFSETTO:-0700
TZNAME:MST
DTSTART:20231105T080000
END:STANDARD
BEGIN:DAYLIGHT
TZOFFSETFROM:-0700
TZOFFSETTO:-0600
TZNAME:MDT
DTSTART:20240310T090000
END:DAYLIGHT
BEGIN:STANDARD
TZOFFSETFROM:-0600
TZOFFSETTO:-0700
TZNAME:MST
DTSTART:20241103T080000
END:STANDARD
BEGIN:DAYLIGHT
TZOFFSETFROM:-0700
TZOFFSETTO:-0600
TZNAME:MDT
DTSTART:20250309T090000
END:DAYLIGHT
BEGIN:STANDARD
TZOFFSETFROM:-0600
TZOFFSETTO:-0700
TZNAME:MST
DTSTART:20251102T080000
END:STANDARD
END:VTIMEZONE
BEGIN:VEVENT
DTSTART;TZID=America/Boise:20240708T130000
DTEND;TZID=America/Boise:20240708T160000
DTSTAMP:20260423T032403
CREATED:20240627T153608Z
LAST-MODIFIED:20240627T180808Z
UID:10000079-1720443600-1720454400@oliverfinley.com
SUMMARY:Advanced Exfoliation
DESCRIPTION:Gain a deeper understanding of exfoliating ingredients and how to use them safely and effectively in the treatment room. \nPrerequisite: Cosmetology students and graduates must have completed Cos Esthetics Skin and Wax Week and Lira Clinical Product Knowledge. Mandatory for esthetics new seniors. \nFree to Oliver Finley Academy Current Students and Alumni \nInstructor: Rikki McCullough \n1-4pm Cos Esthetics Classroom
URL:https://oliverfinley.com/event/advanced-exfoliation-3/
LOCATION:Oliver Finley Academy\, 6843 N Strawberry Glen\, Boise\, ID\, 83714\, United States
CATEGORIES:School Events
ORGANIZER;CN="Emily Robinson":MAILTO:emilyrobinson@oliverfinley.com
END:VEVENT
BEGIN:VEVENT
DTSTART;VALUE=DATE:20240709
DTEND;VALUE=DATE:20240710
DTSTAMP:20260423T032403
CREATED:20240214T012934Z
LAST-MODIFIED:20240613T164340Z
UID:10000039-1720483200-1720569599@oliverfinley.com
SUMMARY:New Day Esthetics Class Starts
DESCRIPTION:
URL:https://oliverfinley.com/event/new-day-esthetics-class-starts-2/
LOCATION:ID
CATEGORIES:School Events
END:VEVENT
BEGIN:VEVENT
DTSTART;TZID=America/Boise:20240710T130000
DTEND;TZID=America/Boise:20240710T160000
DTSTAMP:20260423T032403
CREATED:20240627T154311Z
LAST-MODIFIED:20240627T154311Z
UID:10000080-1720616400-1720627200@oliverfinley.com
SUMMARY:Berodin Speed Waxing
DESCRIPTION:Learn advanced and speed waxing techniques with Ann from Berodin Wax. Open to cos students who have completed cos esthetics skin and wax weeks\, cos alumni\, and esthetics alumni. \nOpen room in Esthetics Department \nInstructor: Ann Reed from Berodin Wax \n1-4pm
URL:https://oliverfinley.com/event/berodin-speed-waxing/
LOCATION:Oliver Finley Academy\, 6843 N Strawberry Glen\, Boise\, ID\, 83714\, United States
CATEGORIES:Continuing Education,Waxing
ORGANIZER;CN="Emily Robinson":MAILTO:emilyrobinson@oliverfinley.com
END:VEVENT
BEGIN:VEVENT
DTSTART;TZID=America/Boise:20240715T130000
DTEND;TZID=America/Boise:20240715T160000
DTSTAMP:20260423T032403
CREATED:20240627T183629Z
LAST-MODIFIED:20240627T183629Z
UID:10000090-1721048400-1721059200@oliverfinley.com
SUMMARY:Lira Clinical Hybrid Treatments
DESCRIPTION:Lira Clinical Hybrid Treatments  \nGone are the days of basic\, single benefit anything. Today’s consumer demands a multi-faceted experience with on-demand results and no downtime. It is important to address these modern desires by incorporating hybrid treatments that offer result-driven outcomes with a range of options depending on client goals. Hybrid peel treatments allow for limitless innovative solutions for tackling any skin condition. Required to take future peel classes. This class is hands-on\, and students will exchange services. \n***this class is mandatory for esthetics seniors and optional for cosmetology students who meet the requirements\, and alumni \nPrerequisites: Cosmetology students and graduates must have completed Cos Esthetics Skin and Wax Week and Lira Clinical Product Knowledge. \nEsthetics students must be a senior and have completed basics and Lira Clinical Product Knowledge. \nMax Capacity: 18 \nInstructor: Melissa Gilbertson Coffett from Lira Clinical \nTime: 1:00 PM – 4:00 PM \nLocation: Annex Auditorium
URL:https://oliverfinley.com/event/lira-clinical-hybrid-treatments/
LOCATION:Oliver Finley Academy\, 6843 N Strawberry Glen\, Boise\, ID\, 83714\, United States
CATEGORIES:Advanced Esthetics Modalities,Continuing Education
END:VEVENT
BEGIN:VEVENT
DTSTART;TZID=America/Boise:20240716T130000
DTEND;TZID=America/Boise:20240716T160000
DTSTAMP:20260423T032403
CREATED:20240627T165247Z
LAST-MODIFIED:20240711T212408Z
UID:10000082-1721134800-1721145600@oliverfinley.com
SUMMARY:Mature Skin
DESCRIPTION:Mature Skin \nGain a better understanding of how and why the skin ages\, ingredients and techniques to address and prevent skin aging. This class is hands-on\, and students will exchange services. This class is open to current cosmetology students and cosmetology and esthetics alumni. \nPrerequisite: Cosmetology students and graduates must have completed Cos Esthetics Skin and Wax Week and Lira Clinical Product Knowledge. Esthetics students must have completed basics and Lira Clinical Product Knowledge. \nInstructor: Emily & Rikki \n1-4pm Auditorium \nFree to current OFA student and alumni
URL:https://oliverfinley.com/event/mature-skin-2/
LOCATION:Oliver Finley Academy\, 6843 N Strawberry Glen\, Boise\, ID\, 83714\, United States
CATEGORIES:Continuing Education,Mature Skin
ORGANIZER;CN="Emily Robinson":MAILTO:emilyrobinson@oliverfinley.com
END:VEVENT
BEGIN:VEVENT
DTSTART;TZID=America/Boise:20240716T173000
DTEND;TZID=America/Boise:20240716T210000
DTSTAMP:20260423T032403
CREATED:20240627T174203Z
LAST-MODIFIED:20240627T174224Z
UID:10000083-1721151000-1721163600@oliverfinley.com
SUMMARY:Collagen Induction Therapy
DESCRIPTION:Gain a better understanding of collagen induction therapy and the various modalities of collagen induction therapy. This class is hands-on\, and students will exchange services. \n***This class is open to Evening Esthetics Seniors\, Esthetics Alumni \nPrerequisite: Esthetics students must have completed basics and Lira Clinical Product Knowledge. \nMax Capacity: 12 \nInstructor: Rikki Mccullough and Abby Gardner \nTime: 5:30 PM – 9:00 PM \nLocation: Annex Cos Esthetics Classroom
URL:https://oliverfinley.com/event/collagen-induction-therapy-2/
LOCATION:Oliver Finley Academy\, 6843 N Strawberry Glen\, Boise\, ID\, 83714\, United States
CATEGORIES:Advanced Esthetics Modalities,Continuing Education,Mature Skin
ORGANIZER;CN="Emily Robinson":MAILTO:emilyrobinson@oliverfinley.com
END:VEVENT
BEGIN:VEVENT
DTSTART;TZID=America/Boise:20240723T130000
DTEND;TZID=America/Boise:20240723T160000
DTSTAMP:20260423T032403
CREATED:20240627T174731Z
LAST-MODIFIED:20240627T174731Z
UID:10000084-1721739600-1721750400@oliverfinley.com
SUMMARY:Collagen Induction Therapy
DESCRIPTION:Collagen Induction Therapy  \nGain a better understanding of collagen induction therapy and the various modalities of collagen induction therapy. This class is hands-on\, and students will exchange services. \n***This class is open to current Cosmetology students who meet the prerequisites\, Esthetics Seniors\, Cosmetology & Esthetics Alumni \nPrerequisite: Cosmetology students and graduates must have completed Cos Esthetics Skin and Wax Week and Lira Clinical Product Knowledge. Esthetics students must have completed basics and Lira Clinical Product Knowledge. \nMax Capacity: 12 \nInstructor: Rikki Mccullough and Abby Gardner \nTime: 1:00 PM – 4:00 PM \nLocation: Annex Cos Esthetics Classroom
URL:https://oliverfinley.com/event/collagen-induction-therapy-3/
LOCATION:Oliver Finley Academy\, 6843 N Strawberry Glen\, Boise\, ID\, 83714\, United States
CATEGORIES:Advanced Esthetics Modalities,Continuing Education,Mature Skin
ORGANIZER;CN="Emily Robinson":MAILTO:emilyrobinson@oliverfinley.com
END:VEVENT
BEGIN:VEVENT
DTSTART;TZID=America/Boise:20240723T173000
DTEND;TZID=America/Boise:20240723T210000
DTSTAMP:20260423T032403
CREATED:20240627T180234Z
LAST-MODIFIED:20240627T221038Z
UID:10000086-1721755800-1721768400@oliverfinley.com
SUMMARY:Ultrasound Facelilft
DESCRIPTION:Ultrasound Facial \nA HIFU facial uses ultrasound to create heat at a deep level in the skin. This heat damages targeted skin cells\, causing the body to try to repair them. To do this\, the body produces collagen to aid in cell regrowth. Collagen is a substance in the skin that gives it structure and elasticity.  This class is hands-on\, and students will exchange services. \n***This class is open to Night Esthetics Seniors\, Cosmetology & Esthetics Alumni \nPrerequisites: Esthetics students must be a senior and have completed basics and Lira Clinical Product Knowledge. \nMax Capacity: 12 \nInstructor: Emily and Rikki \nTime: 5:30 PM – 9:00 PM \nLocation: Annex Cos Esthetics Classroom
URL:https://oliverfinley.com/event/ultrasound-facelilft/
LOCATION:Oliver Finley Academy\, 6843 N Strawberry Glen\, Boise\, ID\, 83714\, United States
ORGANIZER;CN="Emily Robinson":MAILTO:emilyrobinson@oliverfinley.com
END:VEVENT
BEGIN:VEVENT
DTSTART;TZID=America/Boise:20240724T173000
DTEND;TZID=America/Boise:20240724T193000
DTSTAMP:20260423T032403
CREATED:20240627T181805Z
LAST-MODIFIED:20240627T181805Z
UID:10000087-1721842200-1721849400@oliverfinley.com
SUMMARY:Ergonomics and Self Care for Career Longevity
DESCRIPTION:Ergonomics and Self Care for Career Longevity \nThe beauty industry can provide a fun and exciting career but can result in pain and injury over time. Learn basics yoga techniques and ergonomics to foster a long and healthy career in the beauty industry. \nMax Capacity: 18 \nPrerequisites: Night Esthetics seniors \nInstructor: Gloria Perdaems \nTime: 5:30 PM – 7:30 PM \nLocation: Annex Auditorium
URL:https://oliverfinley.com/event/ergonomics-and-self-care-for-career-longevity-2/
LOCATION:Oliver Finley Academy\, 6843 N Strawberry Glen\, Boise\, ID\, 83714\, United States
CATEGORIES:Continuing Education
ORGANIZER;CN="Emily Robinson":MAILTO:emilyrobinson@oliverfinley.com
END:VEVENT
END:VCALENDAR