BEGIN:VCALENDAR
VERSION:2.0
PRODID:-//Oliver Finley Site - ECPv6.15.20//NONSGML v1.0//EN
CALSCALE:GREGORIAN
METHOD:PUBLISH
X-WR-CALNAME:Oliver Finley Site
X-ORIGINAL-URL:https://oliverfinley.com
X-WR-CALDESC:Events for Oliver Finley Site
REFRESH-INTERVAL;VALUE=DURATION:PT1H
X-Robots-Tag:noindex
X-PUBLISHED-TTL:PT1H
BEGIN:VTIMEZONE
TZID:America/Boise
BEGIN:DAYLIGHT
TZOFFSETFROM:-0700
TZOFFSETTO:-0600
TZNAME:MDT
DTSTART:20250309T090000
END:DAYLIGHT
BEGIN:STANDARD
TZOFFSETFROM:-0600
TZOFFSETTO:-0700
TZNAME:MST
DTSTART:20251102T080000
END:STANDARD
BEGIN:DAYLIGHT
TZOFFSETFROM:-0700
TZOFFSETTO:-0600
TZNAME:MDT
DTSTART:20260308T090000
END:DAYLIGHT
BEGIN:STANDARD
TZOFFSETFROM:-0600
TZOFFSETTO:-0700
TZNAME:MST
DTSTART:20261101T080000
END:STANDARD
BEGIN:DAYLIGHT
TZOFFSETFROM:-0700
TZOFFSETTO:-0600
TZNAME:MDT
DTSTART:20270314T090000
END:DAYLIGHT
BEGIN:STANDARD
TZOFFSETFROM:-0600
TZOFFSETTO:-0700
TZNAME:MST
DTSTART:20271107T080000
END:STANDARD
END:VTIMEZONE
BEGIN:VEVENT
DTSTART;TZID=America/Boise:20260427T130000
DTEND;TZID=America/Boise:20260427T160000
DTSTAMP:20260419T092350
CREATED:20260326T212054Z
LAST-MODIFIED:20260402T164730Z
UID:10000549-1777294800-1777305600@oliverfinley.com
SUMMARY:Advanced Massage Techniques - Cancelled
DESCRIPTION:This class has been cancelled and will be rescheduled at a future date.\n\nAdvanced Massage Techniques\n\nContent: Hands-on training in lymphatic drainage\, pressure point\, and gua sha. Students exchange services.\nPrerequisite: Cos students must complete Cos Esthetics; Esthetics students must complete Basics.\nMax Capacity: 12\nInstructor: Rikki McCullough\nLocation: Annex Cos Esthetics Classroom
URL:https://oliverfinley.com/event/advanced-massage-techniques-8/
LOCATION:Oliver Finley Academy\, 6843 N Strawberry Glen\, Boise\, ID\, 83714\, United States
ORGANIZER;CN="Emily Robinson":MAILTO:emilyrobinson@oliverfinley.com
END:VEVENT
END:VCALENDAR