BEGIN:VCALENDAR
VERSION:2.0
PRODID:-//Oliver Finley Site - ECPv6.15.20//NONSGML v1.0//EN
CALSCALE:GREGORIAN
METHOD:PUBLISH
X-WR-CALNAME:Oliver Finley Site
X-ORIGINAL-URL:https://oliverfinley.com
X-WR-CALDESC:Events for Oliver Finley Site
REFRESH-INTERVAL;VALUE=DURATION:PT1H
X-Robots-Tag:noindex
X-PUBLISHED-TTL:PT1H
BEGIN:VTIMEZONE
TZID:America/Boise
BEGIN:DAYLIGHT
TZOFFSETFROM:-0700
TZOFFSETTO:-0600
TZNAME:MDT
DTSTART:20230312T090000
END:DAYLIGHT
BEGIN:STANDARD
TZOFFSETFROM:-0600
TZOFFSETTO:-0700
TZNAME:MST
DTSTART:20231105T080000
END:STANDARD
BEGIN:DAYLIGHT
TZOFFSETFROM:-0700
TZOFFSETTO:-0600
TZNAME:MDT
DTSTART:20240310T090000
END:DAYLIGHT
BEGIN:STANDARD
TZOFFSETFROM:-0600
TZOFFSETTO:-0700
TZNAME:MST
DTSTART:20241103T080000
END:STANDARD
BEGIN:DAYLIGHT
TZOFFSETFROM:-0700
TZOFFSETTO:-0600
TZNAME:MDT
DTSTART:20250309T090000
END:DAYLIGHT
BEGIN:STANDARD
TZOFFSETFROM:-0600
TZOFFSETTO:-0700
TZNAME:MST
DTSTART:20251102T080000
END:STANDARD
END:VTIMEZONE
BEGIN:VEVENT
DTSTART;TZID=America/Boise:20240911T130000
DTEND;TZID=America/Boise:20240911T160000
DTSTAMP:20260423T131421
CREATED:20240821T214813Z
LAST-MODIFIED:20240821T214813Z
UID:10000144-1726059600-1726070400@oliverfinley.com
SUMMARY:Chair Massage
DESCRIPTION:Chair Massage  \nUp your customer service game\, increase revenue and client retention by learning massage techniques easily applied to your clients while they are in your chair. This class is hands-on\, and students will exchange services with each other. \nOpen to Cosmetology juniors\, seniors\, and alumni \nMax Capacity: 12 \nInstructor: Lizzy Rice \nTime: 1:00 PM – 4:00 PM. \nLocation: Annex Makeup Classroom. \nEvent Category: Continuing Education\, Massage \nTags: Oliver Finley Academy\, Boise Cosmetology School\, massage\, customer retention\, cosmetology\, esthetics
URL:https://oliverfinley.com/event/chair-massage-2/
LOCATION:Oliver Finley Academy\, 6843 N Strawberry Glen\, Boise\, ID\, 83714\, United States
CATEGORIES:Chair Classes,Massage
ORGANIZER;CN="Emily Robinson":MAILTO:emilyrobinson@oliverfinley.com
END:VEVENT
END:VCALENDAR