BEGIN:VCALENDAR
VERSION:2.0
PRODID:-//Oliver Finley Site - ECPv6.15.20//NONSGML v1.0//EN
CALSCALE:GREGORIAN
METHOD:PUBLISH
X-WR-CALNAME:Oliver Finley Site
X-ORIGINAL-URL:https://oliverfinley.com
X-WR-CALDESC:Events for Oliver Finley Site
REFRESH-INTERVAL;VALUE=DURATION:PT1H
X-Robots-Tag:noindex
X-PUBLISHED-TTL:PT1H
BEGIN:VTIMEZONE
TZID:America/Boise
BEGIN:DAYLIGHT
TZOFFSETFROM:-0700
TZOFFSETTO:-0600
TZNAME:MDT
DTSTART:20250309T090000
END:DAYLIGHT
BEGIN:STANDARD
TZOFFSETFROM:-0600
TZOFFSETTO:-0700
TZNAME:MST
DTSTART:20251102T080000
END:STANDARD
BEGIN:DAYLIGHT
TZOFFSETFROM:-0700
TZOFFSETTO:-0600
TZNAME:MDT
DTSTART:20260308T090000
END:DAYLIGHT
BEGIN:STANDARD
TZOFFSETFROM:-0600
TZOFFSETTO:-0700
TZNAME:MST
DTSTART:20261101T080000
END:STANDARD
BEGIN:DAYLIGHT
TZOFFSETFROM:-0700
TZOFFSETTO:-0600
TZNAME:MDT
DTSTART:20270314T090000
END:DAYLIGHT
BEGIN:STANDARD
TZOFFSETFROM:-0600
TZOFFSETTO:-0700
TZNAME:MST
DTSTART:20271107T080000
END:STANDARD
END:VTIMEZONE
BEGIN:VEVENT
DTSTART;TZID=America/Boise:20260202T130000
DTEND;TZID=America/Boise:20260202T160000
DTSTAMP:20260423T095933
CREATED:20251211T171703Z
LAST-MODIFIED:20251211T171703Z
UID:10000458-1770037200-1770048000@oliverfinley.com
SUMMARY:Addressing Hyperpigmentation
DESCRIPTION:Overview: Study pigmentation causes\, corrective ingredients\, and treatment strategies.\n\n\nPrerequisite Must be an esthetic junior\, senior\, or alumni or cos student or alumni who have completed cos e: skin & wax weeks.\n\n\nMax Capacity: 10\nInstructor: Rikki McCullough\nLocation: Annex Cos Esthetics Classroom\nTime: 1:00PM-4:00PM
URL:https://oliverfinley.com/event/addressing-hyperpigmentation-11/
LOCATION:Oliver Finley Academy\, 6843 N Strawberry Glen\, Boise\, ID\, 83714\, United States
CATEGORIES:Pigmentation
ORGANIZER;CN="Emily Robinson":MAILTO:emilyrobinson@oliverfinley.com
END:VEVENT
BEGIN:VEVENT
DTSTART;TZID=America/Boise:20260209T173000
DTEND;TZID=America/Boise:20260209T210000
DTSTAMP:20260423T095933
CREATED:20260123T192443Z
LAST-MODIFIED:20260126T164439Z
UID:10000482-1770658200-1770670800@oliverfinley.com
SUMMARY:Microcurrent Facelift with 7E Wellness: Night Students and Alumni
DESCRIPTION:Overview: Frances from 7E Wellness stopped by and shared their brand’s knowledge when it comes to combining the art of self-care with the power of microcurrent technology! \nAt Oliver Finley Academy\, we like to provide a variety of classes and information for our students that will serve them long after they leave our campus. That’s why we often have presenters and fellow beauty industry professionals stop by to share their knowledge with our students. \nFind out more information about 7E Wellness at: https://www.7ewellness.com \n\nOpen to: Esthetics night student and cos and esthetics alumni\nPrerequisite: Must be an esthetic junior\, senior\, or alumni or cos student or alumni who have completed cos e: skin & wax weeks\nMax Capacity: 12\nInstructor: Frances from 7E Wellness\, Esthetician and Educator\nLocation: Annex Cos Esthetics Classroom\nTime: 5:30PM-9:00PM
URL:https://oliverfinley.com/event/microcurrent-facelift-with-7e-wellness-night-students-and-alumni/
LOCATION:Oliver Finley Academy\, 6843 N Strawberry Glen\, Boise\, ID\, 83714\, United States
CATEGORIES:Advanced Esthetics Modalities,Continuing Education,Microcurrent
ORGANIZER;CN="Emily Robinson":MAILTO:emilyrobinson@oliverfinley.com
END:VEVENT
BEGIN:VEVENT
DTSTART;TZID=America/Boise:20260213T090000
DTEND;TZID=America/Boise:20260213T120000
DTSTAMP:20260423T095933
CREATED:20251211T175128Z
LAST-MODIFIED:20260126T164859Z
UID:10000466-1770973200-1770984000@oliverfinley.com
SUMMARY:Esthetics Ingredients: Deep Dive Part 1 and 2
DESCRIPTION:Mandatory for Esthetic seniors; optional for Cos students and alumni.\nOverview: Study ingredient categories\, label reading\, natural vs. synthetic differences. Helps navigate product lines with confidence. this is a 2-part class.\n\n\nPrerequisite Must be an esthetic junior\, senior\, or alumni or cos student or alumni who have completed cos e: skin & wax weeks.\n\n\nMax Capacity: 18\nInstructor: Abby Hansen\nLocation: Esthetics Senior Classroom\nTime: Part 1: February 13\, 9:00AM-12:00PM and Part 2: February 20\, 9:00AM-12:00PM
URL:https://oliverfinley.com/event/esthetics-ingredients-deep-dive-part-1-and-2-3/
LOCATION:Oliver Finley Academy\, 6843 N Strawberry Glen\, Boise\, ID\, 83714\, United States
CATEGORIES:Continuing Education,Esthetics,Ingredient Knowledge
ORGANIZER;CN="Emily Robinson":MAILTO:emilyrobinson@oliverfinley.com
END:VEVENT
BEGIN:VEVENT
DTSTART;TZID=America/Boise:20260213T090000
DTEND;TZID=America/Boise:20260213T120000
DTSTAMP:20260423T095933
CREATED:20260126T170523Z
LAST-MODIFIED:20260126T170523Z
UID:10000491-1770973200-1770984000@oliverfinley.com
SUMMARY:Esthetics Ingredients: Deep Dive Part 1 and 2: Night Esthetics Students and Alumni Only
DESCRIPTION:Mandatory for Night Esthetic seniors; optional for Cos students and alumni.\nOverview: Study ingredient categories\, label reading\, natural vs. synthetic differences. Helps navigate product lines with confidence. this is a 2-part class.\n\n\nPrerequisite Must be an esthetic junior\, senior\, or alumni or cos student or alumni who have completed cos e: skin & wax weeks.\n\n\nMax Capacity: 18\nInstructor: Abby Hansen\nLocation: Esthetics Senior Classroom\nTime:\n\nPart 1: March 17\, 5:30PM-9:00PM\nPart 2: March 24\, 5:30PM-9:00PM
URL:https://oliverfinley.com/event/esthetics-ingredients-deep-dive-part-1-and-2-night-esthetics-students-and-alumni-only/
LOCATION:Oliver Finley Academy\, 6843 N Strawberry Glen\, Boise\, ID\, 83714\, United States
CATEGORIES:Continuing Education,Esthetics,Ingredient Knowledge
ORGANIZER;CN="Emily Robinson":MAILTO:emilyrobinson@oliverfinley.com
END:VEVENT
BEGIN:VEVENT
DTSTART;TZID=America/Boise:20260224T130000
DTEND;TZID=America/Boise:20260224T160000
DTSTAMP:20260423T095933
CREATED:20251211T172824Z
LAST-MODIFIED:20251211T172824Z
UID:10000462-1771938000-1771948800@oliverfinley.com
SUMMARY:Advanced Massage Techniques
DESCRIPTION:Advanced Massage Techniques\n\nContent: Hands-on training in lymphatic drainage\, pressure point\, and gua sha. Students exchange services.\nPrerequisite: Cos students must complete Cos Esthetics; Esthetics students must complete Basics.\nMax Capacity: 12\nInstructor: Rikki McCullough\nLocation: Annex Cos Esthetics Classroom
URL:https://oliverfinley.com/event/advanced-massage-techniques-7/
LOCATION:Oliver Finley Academy\, 6843 N Strawberry Glen\, Boise\, ID\, 83714\, United States
ORGANIZER;CN="Emily Robinson":MAILTO:emilyrobinson@oliverfinley.com
END:VEVENT
BEGIN:VEVENT
DTSTART;TZID=America/Boise:20260224T173000
DTEND;TZID=America/Boise:20260224T210000
DTSTAMP:20260423T095933
CREATED:20260126T164735Z
LAST-MODIFIED:20260126T164735Z
UID:10000488-1771954200-1771966800@oliverfinley.com
SUMMARY:Advanced Massage Techniques: Night Esthetics Students and Alumni Only
DESCRIPTION:Advanced Massage Techniques\n\nContent: Hands-on training in lymphatic drainage\, pressure point\, and gua sha. Students exchange services.\nPrerequisite: Cos students must complete Cos Esthetics; Esthetics students must complete Basics.\nMax Capacity: 12\nInstructor: Jordan Day\nLocation: Annex Cos Esthetics Classroom
URL:https://oliverfinley.com/event/advanced-massage-techniques-night-esthetics-students-and-alumni-only/
LOCATION:Oliver Finley Academy\, 6843 N Strawberry Glen\, Boise\, ID\, 83714\, United States
ORGANIZER;CN="Emily Robinson":MAILTO:emilyrobinson@oliverfinley.com
END:VEVENT
END:VCALENDAR