BEGIN:VCALENDAR
VERSION:2.0
PRODID:-//Oliver Finley Site - ECPv6.15.20//NONSGML v1.0//EN
CALSCALE:GREGORIAN
METHOD:PUBLISH
X-ORIGINAL-URL:https://oliverfinley.com
X-WR-CALDESC:Events for Oliver Finley Site
REFRESH-INTERVAL;VALUE=DURATION:PT1H
X-Robots-Tag:noindex
X-PUBLISHED-TTL:PT1H
BEGIN:VTIMEZONE
TZID:America/Boise
BEGIN:DAYLIGHT
TZOFFSETFROM:-0700
TZOFFSETTO:-0600
TZNAME:MDT
DTSTART:20250309T090000
END:DAYLIGHT
BEGIN:STANDARD
TZOFFSETFROM:-0600
TZOFFSETTO:-0700
TZNAME:MST
DTSTART:20251102T080000
END:STANDARD
BEGIN:DAYLIGHT
TZOFFSETFROM:-0700
TZOFFSETTO:-0600
TZNAME:MDT
DTSTART:20260308T090000
END:DAYLIGHT
BEGIN:STANDARD
TZOFFSETFROM:-0600
TZOFFSETTO:-0700
TZNAME:MST
DTSTART:20261101T080000
END:STANDARD
BEGIN:DAYLIGHT
TZOFFSETFROM:-0700
TZOFFSETTO:-0600
TZNAME:MDT
DTSTART:20270314T090000
END:DAYLIGHT
BEGIN:STANDARD
TZOFFSETFROM:-0600
TZOFFSETTO:-0700
TZNAME:MST
DTSTART:20271107T080000
END:STANDARD
END:VTIMEZONE
BEGIN:VEVENT
DTSTART;VALUE=DATE:20260303
DTEND;VALUE=DATE:20260304
DTSTAMP:20260423T173808
CREATED:20250618T152855Z
LAST-MODIFIED:20250618T152855Z
UID:10000325-1772496000-1772582399@oliverfinley.com
SUMMARY:New Cosmetology Class Starts
DESCRIPTION:
URL:https://oliverfinley.com/event/new-cosmetology-class-starts-11/
LOCATION:Oliver Finley Academy\, 6843 N Strawberry Glen\, Boise\, ID\, 83714\, United States
CATEGORIES:New Class Starts
ORGANIZER;CN="Emily Robinson":MAILTO:emilyrobinson@oliverfinley.com
END:VEVENT
BEGIN:VEVENT
DTSTART;VALUE=DATE:20260317
DTEND;VALUE=DATE:20260318
DTSTAMP:20260423T173808
CREATED:20250618T153418Z
LAST-MODIFIED:20250618T153418Z
UID:10000336-1773705600-1773791999@oliverfinley.com
SUMMARY:New Day Esthetics Class Starts
DESCRIPTION:
URL:https://oliverfinley.com/event/new-day-esthetics-class-starts-10/
LOCATION:Oliver Finley Academy\, 6843 N Strawberry Glen\, Boise\, ID\, 83714\, United States
CATEGORIES:Continuing Education,Esthetics,New Class Starts
ORGANIZER;CN="Emily Robinson":MAILTO:emilyrobinson@oliverfinley.com
END:VEVENT
BEGIN:VEVENT
DTSTART;VALUE=DATE:20260331
DTEND;VALUE=DATE:20260401
DTSTAMP:20260423T173808
CREATED:20250618T153216Z
LAST-MODIFIED:20250618T153216Z
UID:10000331-1774915200-1775001599@oliverfinley.com
SUMMARY:New Nails Class Starts
DESCRIPTION:
URL:https://oliverfinley.com/event/new-nails-class-starts-7/
LOCATION:Oliver Finley Academy\, 6843 N Strawberry Glen\, Boise\, ID\, 83714\, United States
CATEGORIES:Nails,New Class Starts
ORGANIZER;CN="Emily Robinson":MAILTO:emilyrobinson@oliverfinley.com
END:VEVENT
END:VCALENDAR