BEGIN:VCALENDAR
VERSION:2.0
PRODID:-//Oliver Finley Site - ECPv6.15.20//NONSGML v1.0//EN
CALSCALE:GREGORIAN
METHOD:PUBLISH
X-ORIGINAL-URL:https://oliverfinley.com
X-WR-CALDESC:Events for Oliver Finley Site
REFRESH-INTERVAL;VALUE=DURATION:PT1H
X-Robots-Tag:noindex
X-PUBLISHED-TTL:PT1H
BEGIN:VTIMEZONE
TZID:America/Boise
BEGIN:DAYLIGHT
TZOFFSETFROM:-0700
TZOFFSETTO:-0600
TZNAME:MDT
DTSTART:20250309T090000
END:DAYLIGHT
BEGIN:STANDARD
TZOFFSETFROM:-0600
TZOFFSETTO:-0700
TZNAME:MST
DTSTART:20251102T080000
END:STANDARD
BEGIN:DAYLIGHT
TZOFFSETFROM:-0700
TZOFFSETTO:-0600
TZNAME:MDT
DTSTART:20260308T090000
END:DAYLIGHT
BEGIN:STANDARD
TZOFFSETFROM:-0600
TZOFFSETTO:-0700
TZNAME:MST
DTSTART:20261101T080000
END:STANDARD
BEGIN:DAYLIGHT
TZOFFSETFROM:-0700
TZOFFSETTO:-0600
TZNAME:MDT
DTSTART:20270314T090000
END:DAYLIGHT
BEGIN:STANDARD
TZOFFSETFROM:-0600
TZOFFSETTO:-0700
TZNAME:MST
DTSTART:20271107T080000
END:STANDARD
END:VTIMEZONE
BEGIN:VEVENT
DTSTART;TZID=America/Boise:20260428T130000
DTEND;TZID=America/Boise:20260428T160000
DTSTAMP:20260419T105429
CREATED:20260326T213010Z
LAST-MODIFIED:20260402T170254Z
UID:10000550-1777381200-1777392000@oliverfinley.com
SUMMARY:Brazilian Wax Clinic - Esthetic Students Only - Cancelled
DESCRIPTION:This class has been cancelled and will be rescheduled at a future date.\n\nOverview: Gain confidence performing Brazilian waxing with Berodin hard or soft wax in a one-on-one setting. Choose to work with Hard or Soft wax to gain more practice in the Brazilian waxing field.\nPrerequisite: Esthetics students must be a junior or senior. Cos students and alumni must have completed Cos E.\nContraindications:\n\nCurrent or recent (within 6 months) use of Accutane or a generic equivalent\nChemical peels within the last 2 weeks\nHair shorter than ¼ inch in the treatment area\nRetinol use within the last 7 days on the treatment area\n\n\n\n\n\n\n\nWhat to Bring: Students must find a model prior to the class start.\nMax Capacity: 3\nInstructor: Kiana Doe\nLocation: Annex Cos Esthetics Classroom\nTime: 1:00PM-4:00PM
URL:https://oliverfinley.com/event/brazilian-wax-clinic-esthetic-students-only/
LOCATION:Oliver Finley Academy\, 6843 N Strawberry Glen\, Boise\, ID\, 83714\, United States
CATEGORIES:Waxing
ORGANIZER;CN="Emily Robinson":MAILTO:emilyrobinson@oliverfinley.com
END:VEVENT
END:VCALENDAR