BEGIN:VCALENDAR
VERSION:2.0
PRODID:-//Oliver Finley Site - ECPv6.15.20//NONSGML v1.0//EN
CALSCALE:GREGORIAN
METHOD:PUBLISH
X-WR-CALNAME:Oliver Finley Site
X-ORIGINAL-URL:https://oliverfinley.com
X-WR-CALDESC:Events for Oliver Finley Site
REFRESH-INTERVAL;VALUE=DURATION:PT1H
X-Robots-Tag:noindex
X-PUBLISHED-TTL:PT1H
BEGIN:VTIMEZONE
TZID:America/Boise
BEGIN:DAYLIGHT
TZOFFSETFROM:-0700
TZOFFSETTO:-0600
TZNAME:MDT
DTSTART:20250309T090000
END:DAYLIGHT
BEGIN:STANDARD
TZOFFSETFROM:-0600
TZOFFSETTO:-0700
TZNAME:MST
DTSTART:20251102T080000
END:STANDARD
BEGIN:DAYLIGHT
TZOFFSETFROM:-0700
TZOFFSETTO:-0600
TZNAME:MDT
DTSTART:20260308T090000
END:DAYLIGHT
BEGIN:STANDARD
TZOFFSETFROM:-0600
TZOFFSETTO:-0700
TZNAME:MST
DTSTART:20261101T080000
END:STANDARD
BEGIN:DAYLIGHT
TZOFFSETFROM:-0700
TZOFFSETTO:-0600
TZNAME:MDT
DTSTART:20270314T090000
END:DAYLIGHT
BEGIN:STANDARD
TZOFFSETFROM:-0600
TZOFFSETTO:-0700
TZNAME:MST
DTSTART:20271107T080000
END:STANDARD
END:VTIMEZONE
BEGIN:VEVENT
DTSTART;TZID=America/Boise:20260512T090000
DTEND;TZID=America/Boise:20260512T120000
DTSTAMP:20260423T043559
CREATED:20260316T132000Z
LAST-MODIFIED:20260316T132000Z
UID:10000519-1778576400-1778587200@oliverfinley.com
SUMMARY:Lira Clinical Hybrids (Mandatory for Esthetics seniors\, optional for Cosmetology)
DESCRIPTION:Requirement: Mandatory for esthetics basics who have completed Lira Clinical Product Knowledge. Open to cosmetology students and alumni who have also completed Lira Clinical Product Knowledge.\nOverview: This hands-on class introduces hybrid peel treatments\, which combine multiple benefits to deliver results-driven outcomes with no downtime. Students will exchange services and prepare for advanced peel classes. Lira Clinical\n\n\nPrerequisite Must be an esthetic junior\, senior\, or alumni or cos student or alumni who have completed cos e: skin & wax weeks.\nMax Capacity: 12\nInstructor: Melissa Gilbertson Coffett (Lira Clinical)\nLocation: Esthetics Senior Classroom\nTime: 1:00PM-4:00PM\n\n 
URL:https://oliverfinley.com/event/lira-clinical-hybrids-mandatory-for-esthetics-seniors-optional-for-cosmetology/
LOCATION:Oliver Finley Academy\, 6843 N Strawberry Glen\, Boise\, ID\, 83714\, United States
CATEGORIES:Lira Clinical,Peels
ORGANIZER;CN="Emily Robinson":MAILTO:emilyrobinson@oliverfinley.com
END:VEVENT
END:VCALENDAR