BEGIN:VCALENDAR
VERSION:2.0
PRODID:-//Oliver Finley Site - ECPv6.15.20//NONSGML v1.0//EN
CALSCALE:GREGORIAN
METHOD:PUBLISH
X-WR-CALNAME:Oliver Finley Site
X-ORIGINAL-URL:https://oliverfinley.com
X-WR-CALDESC:Events for Oliver Finley Site
REFRESH-INTERVAL;VALUE=DURATION:PT1H
X-Robots-Tag:noindex
X-PUBLISHED-TTL:PT1H
BEGIN:VTIMEZONE
TZID:America/Boise
BEGIN:DAYLIGHT
TZOFFSETFROM:-0700
TZOFFSETTO:-0600
TZNAME:MDT
DTSTART:20250309T090000
END:DAYLIGHT
BEGIN:STANDARD
TZOFFSETFROM:-0600
TZOFFSETTO:-0700
TZNAME:MST
DTSTART:20251102T080000
END:STANDARD
BEGIN:DAYLIGHT
TZOFFSETFROM:-0700
TZOFFSETTO:-0600
TZNAME:MDT
DTSTART:20260308T090000
END:DAYLIGHT
BEGIN:STANDARD
TZOFFSETFROM:-0600
TZOFFSETTO:-0700
TZNAME:MST
DTSTART:20261101T080000
END:STANDARD
BEGIN:DAYLIGHT
TZOFFSETFROM:-0700
TZOFFSETTO:-0600
TZNAME:MDT
DTSTART:20270314T090000
END:DAYLIGHT
BEGIN:STANDARD
TZOFFSETFROM:-0600
TZOFFSETTO:-0700
TZNAME:MST
DTSTART:20271107T080000
END:STANDARD
END:VTIMEZONE
BEGIN:VEVENT
DTSTART;TZID=America/Boise:20260415T130000
DTEND;TZID=America/Boise:20260415T160000
DTSTAMP:20260423T193334
CREATED:20260326T211639Z
LAST-MODIFIED:20260330T184707Z
UID:10000546-1776258000-1776268800@oliverfinley.com
SUMMARY:Collagen Induction Therapy with Lira Green Power
DESCRIPTION:Esthetics: Collagen Induction Therapy & Green Power\n\nOverview: Explore collagen induction therapy modalities. Hands-on with student service exchange.\nPrerequisite: Must be an esthetic junior\, senior\, or alumni or cos student or alumni who have completed cos e: skin & wax weeks.\nMax Capacity: 12\nInstructor: Emily Robinson\nLocation: Annex Cos Esthetics Classroom\nTime: 1:00PM-4:00PM
URL:https://oliverfinley.com/event/collagen-induction-therapy-with-lira-green-power-6/
LOCATION:Oliver Finley Academy\, 6843 N Strawberry Glen\, Boise\, ID\, 83714\, United States
CATEGORIES:Advanced Esthetics Modalities,Collagen Induction Therapy,Lira Clinical
ORGANIZER;CN="Emily Robinson":MAILTO:emilyrobinson@oliverfinley.com
END:VEVENT
END:VCALENDAR