BEGIN:VCALENDAR
VERSION:2.0
PRODID:-//Oliver Finley Site - ECPv6.15.20//NONSGML v1.0//EN
CALSCALE:GREGORIAN
METHOD:PUBLISH
X-WR-CALNAME:Oliver Finley Site
X-ORIGINAL-URL:https://oliverfinley.com
X-WR-CALDESC:Events for Oliver Finley Site
REFRESH-INTERVAL;VALUE=DURATION:PT1H
X-Robots-Tag:noindex
X-PUBLISHED-TTL:PT1H
BEGIN:VTIMEZONE
TZID:America/Boise
BEGIN:DAYLIGHT
TZOFFSETFROM:-0700
TZOFFSETTO:-0600
TZNAME:MDT
DTSTART:20250309T090000
END:DAYLIGHT
BEGIN:STANDARD
TZOFFSETFROM:-0600
TZOFFSETTO:-0700
TZNAME:MST
DTSTART:20251102T080000
END:STANDARD
BEGIN:DAYLIGHT
TZOFFSETFROM:-0700
TZOFFSETTO:-0600
TZNAME:MDT
DTSTART:20260308T090000
END:DAYLIGHT
BEGIN:STANDARD
TZOFFSETFROM:-0600
TZOFFSETTO:-0700
TZNAME:MST
DTSTART:20261101T080000
END:STANDARD
BEGIN:DAYLIGHT
TZOFFSETFROM:-0700
TZOFFSETTO:-0600
TZNAME:MDT
DTSTART:20270314T090000
END:DAYLIGHT
BEGIN:STANDARD
TZOFFSETFROM:-0600
TZOFFSETTO:-0700
TZNAME:MST
DTSTART:20271107T080000
END:STANDARD
END:VTIMEZONE
BEGIN:VEVENT
DTSTART;TZID=America/Boise:20260202T130000
DTEND;TZID=America/Boise:20260202T160000
DTSTAMP:20260425T070033
CREATED:20251211T171703Z
LAST-MODIFIED:20251211T171703Z
UID:10000458-1770037200-1770048000@oliverfinley.com
SUMMARY:Addressing Hyperpigmentation
DESCRIPTION:Overview: Study pigmentation causes\, corrective ingredients\, and treatment strategies.\n\n\nPrerequisite Must be an esthetic junior\, senior\, or alumni or cos student or alumni who have completed cos e: skin & wax weeks.\n\n\nMax Capacity: 10\nInstructor: Rikki McCullough\nLocation: Annex Cos Esthetics Classroom\nTime: 1:00PM-4:00PM
URL:https://oliverfinley.com/event/addressing-hyperpigmentation-11/
LOCATION:Oliver Finley Academy\, 6843 N Strawberry Glen\, Boise\, ID\, 83714\, United States
CATEGORIES:Pigmentation
ORGANIZER;CN="Emily Robinson":MAILTO:emilyrobinson@oliverfinley.com
END:VEVENT
BEGIN:VEVENT
DTSTART;TZID=America/Boise:20260203T130000
DTEND;TZID=America/Boise:20260203T160000
DTSTAMP:20260425T070033
CREATED:20260123T193118Z
LAST-MODIFIED:20260123T201751Z
UID:10000483-1770123600-1770134400@oliverfinley.com
SUMMARY:Collagen Induction Therapy with Lira Green Power
DESCRIPTION:Esthetics: Collagen Induction Therapy & Green Power\nGain a better understanding of collagen induction therapy and the various modalities of collagen induction therapy. This class is hands-on\, and students will exchange services. \n*Mandatory for esthetics seniors\, open to current cos students and esthetics and cos alumni \nPrerequisite: Cosmetology students must have completed cos esthetics. Esthetics students must have completed basics. \nMax Capacity: 12 \nInstructor: Rikki McCullough \nLocation: Esthetics Senior Classroom \nRegistration Policy: Please check prerequisites prior to registering for a class. You may not register if you have any other prior commitment\, including dispense\, laundry\, salon host\, freshman class\, or a client appointment. \nCancellations: Cancellations must be submitted a minimum of 24 hours in advance. Same day cancellations for current students are not allowed. \nAttendance: Attendance taken at the start of class\, anymore more than 10 minutes late will have their schedule reopened to take appointments. You may not register if you have any other prior commitment\, including dispense\, laundry\, salon host\, freshman class\, or a client appointment.
URL:https://oliverfinley.com/event/collagen-induction-therapy-with-lira-green-power-5/
LOCATION:Oliver Finley Academy\, 6843 N Strawberry Glen\, Boise\, ID\, 83714\, United States
CATEGORIES:Advanced Esthetics Modalities,Collagen Induction Therapy,Lira Clinical
ORGANIZER;CN="Emily Robinson":MAILTO:emilyrobinson@oliverfinley.com
END:VEVENT
BEGIN:VEVENT
DTSTART;TZID=America/Boise:20260203T173000
DTEND;TZID=America/Boise:20260203T210000
DTSTAMP:20260425T070033
CREATED:20260123T193528Z
LAST-MODIFIED:20260126T164528Z
UID:10000484-1770139800-1770152400@oliverfinley.com
SUMMARY:Collagen Induction Therapy with Lira Green Power: Night Students and Cos and Esthetics Alumni
DESCRIPTION:Esthetics: Collagen Induction Therapy & Green Power\nGain a better understanding of collagen induction therapy and the various modalities of collagen induction therapy. This class is hands-on\, and students will exchange services. \n*Mandatory for esthetics seniors\, open to current cos students and esthetics and cos alumni \nPrerequisite: Cosmetology students must have completed cos esthetics. Esthetics students must have completed basics. \nMax Capacity: 12 \nInstructor: Rikki McCullough \nLocation: Esthetics Senior Classroom \nRegistration Policy: Please check prerequisites prior to registering for a class. You may not register if you have any other prior commitment\, including dispense\, laundry\, salon host\, freshman class\, or a client appointment. \nCancellations: Cancellations must be submitted a minimum of 24 hours in advance. Same day cancellations for current students are not allowed. \nAttendance: Attendance taken at the start of class\, anymore more than 10 minutes late will have their schedule reopened to take appointments. You may not register if you have any other prior commitment\, including dispense\, laundry\, salon host\, freshman class\, or a client appointment.
URL:https://oliverfinley.com/event/collagen-induction-therapy-with-lira-green-power-night-students-and-cos-and-esthetics-alumni/
LOCATION:Oliver Finley Academy\, 6843 N Strawberry Glen\, Boise\, ID\, 83714\, United States
CATEGORIES:Advanced Esthetics Modalities,Collagen Induction Therapy,Lira Clinical
ORGANIZER;CN="Emily Robinson":MAILTO:emilyrobinson@oliverfinley.com
END:VEVENT
BEGIN:VEVENT
DTSTART;TZID=America/Boise:20260209T130000
DTEND;TZID=America/Boise:20260209T160000
DTSTAMP:20260425T070033
CREATED:20251211T171833Z
LAST-MODIFIED:20251211T171833Z
UID:10000459-1770642000-1770652800@oliverfinley.com
SUMMARY:Mature Skin
DESCRIPTION:Overview: Learn causes of skin aging\, corrective ingredients\, and prevention. Hands-on with service exchange.\n\n\nPrerequisite Must be an esthetic junior\, senior\, or alumni or cos student or alumni who have completed cos e: skin & wax weeks.\n\n\nMax Capacity: 18\nInstructor: Rikki McCullough\nLocation: Annex Auditorium\nTime: 1:00PM-4:00PM
URL:https://oliverfinley.com/event/mature-skin-16/
LOCATION:Oliver Finley Academy\, 6843 N Strawberry Glen\, Boise\, ID\, 83714\, United States
CATEGORIES:Mature Skin
ORGANIZER;CN="Emily Robinson":MAILTO:emilyrobinson@oliverfinley.com
END:VEVENT
BEGIN:VEVENT
DTSTART;TZID=America/Boise:20260209T173000
DTEND;TZID=America/Boise:20260209T210000
DTSTAMP:20260425T070033
CREATED:20260123T192443Z
LAST-MODIFIED:20260126T164439Z
UID:10000482-1770658200-1770670800@oliverfinley.com
SUMMARY:Microcurrent Facelift with 7E Wellness: Night Students and Alumni
DESCRIPTION:Overview: Frances from 7E Wellness stopped by and shared their brand’s knowledge when it comes to combining the art of self-care with the power of microcurrent technology! \nAt Oliver Finley Academy\, we like to provide a variety of classes and information for our students that will serve them long after they leave our campus. That’s why we often have presenters and fellow beauty industry professionals stop by to share their knowledge with our students. \nFind out more information about 7E Wellness at: https://www.7ewellness.com \n\nOpen to: Esthetics night student and cos and esthetics alumni\nPrerequisite: Must be an esthetic junior\, senior\, or alumni or cos student or alumni who have completed cos e: skin & wax weeks\nMax Capacity: 12\nInstructor: Frances from 7E Wellness\, Esthetician and Educator\nLocation: Annex Cos Esthetics Classroom\nTime: 5:30PM-9:00PM
URL:https://oliverfinley.com/event/microcurrent-facelift-with-7e-wellness-night-students-and-alumni/
LOCATION:Oliver Finley Academy\, 6843 N Strawberry Glen\, Boise\, ID\, 83714\, United States
CATEGORIES:Advanced Esthetics Modalities,Continuing Education,Microcurrent
ORGANIZER;CN="Emily Robinson":MAILTO:emilyrobinson@oliverfinley.com
END:VEVENT
BEGIN:VEVENT
DTSTART;TZID=America/Boise:20260213T090000
DTEND;TZID=America/Boise:20260213T120000
DTSTAMP:20260425T070033
CREATED:20251211T175128Z
LAST-MODIFIED:20260126T164859Z
UID:10000466-1770973200-1770984000@oliverfinley.com
SUMMARY:Esthetics Ingredients: Deep Dive Part 1 and 2
DESCRIPTION:Mandatory for Esthetic seniors; optional for Cos students and alumni.\nOverview: Study ingredient categories\, label reading\, natural vs. synthetic differences. Helps navigate product lines with confidence. this is a 2-part class.\n\n\nPrerequisite Must be an esthetic junior\, senior\, or alumni or cos student or alumni who have completed cos e: skin & wax weeks.\n\n\nMax Capacity: 18\nInstructor: Abby Hansen\nLocation: Esthetics Senior Classroom\nTime: Part 1: February 13\, 9:00AM-12:00PM and Part 2: February 20\, 9:00AM-12:00PM
URL:https://oliverfinley.com/event/esthetics-ingredients-deep-dive-part-1-and-2-3/
LOCATION:Oliver Finley Academy\, 6843 N Strawberry Glen\, Boise\, ID\, 83714\, United States
CATEGORIES:Continuing Education,Esthetics,Ingredient Knowledge
ORGANIZER;CN="Emily Robinson":MAILTO:emilyrobinson@oliverfinley.com
END:VEVENT
BEGIN:VEVENT
DTSTART;TZID=America/Boise:20260213T090000
DTEND;TZID=America/Boise:20260213T120000
DTSTAMP:20260425T070033
CREATED:20260126T170523Z
LAST-MODIFIED:20260126T170523Z
UID:10000491-1770973200-1770984000@oliverfinley.com
SUMMARY:Esthetics Ingredients: Deep Dive Part 1 and 2: Night Esthetics Students and Alumni Only
DESCRIPTION:Mandatory for Night Esthetic seniors; optional for Cos students and alumni.\nOverview: Study ingredient categories\, label reading\, natural vs. synthetic differences. Helps navigate product lines with confidence. this is a 2-part class.\n\n\nPrerequisite Must be an esthetic junior\, senior\, or alumni or cos student or alumni who have completed cos e: skin & wax weeks.\n\n\nMax Capacity: 18\nInstructor: Abby Hansen\nLocation: Esthetics Senior Classroom\nTime:\n\nPart 1: March 17\, 5:30PM-9:00PM\nPart 2: March 24\, 5:30PM-9:00PM
URL:https://oliverfinley.com/event/esthetics-ingredients-deep-dive-part-1-and-2-night-esthetics-students-and-alumni-only/
LOCATION:Oliver Finley Academy\, 6843 N Strawberry Glen\, Boise\, ID\, 83714\, United States
CATEGORIES:Continuing Education,Esthetics,Ingredient Knowledge
ORGANIZER;CN="Emily Robinson":MAILTO:emilyrobinson@oliverfinley.com
END:VEVENT
BEGIN:VEVENT
DTSTART;TZID=America/Boise:20260217T130000
DTEND;TZID=America/Boise:20260217T160000
DTSTAMP:20260425T070033
CREATED:20251211T172703Z
LAST-MODIFIED:20251211T172703Z
UID:10000461-1771333200-1771344000@oliverfinley.com
SUMMARY:Brazilian Wax Clinic
DESCRIPTION:Overview: Gain confidence performing Brazilian waxing with Berodin hard or soft wax in a one-on-one setting. Choose to work with Hard or Soft wax to gain more practice in the Brazilian waxing field.\nPrerequisite: Esthetics students must be a junior or senior. Cos students and alumni must have completed Cos E.\nContraindications:\n\nCurrent or recent (within 6 months) use of Accutane or a generic equivalent\nChemical peels within the last 2 weeks\nHair shorter than ¼ inch in the treatment area\nRetinol use within the last 7 days on the treatment area\n\n\n\n\n\n\n\nWhat to Bring: Students must find a model prior to the class start.\nMax Capacity: 3\nInstructor: Kiana Doe\nLocation: Annex Cos Esthetics Classroom\nTime: 1:00PM-4:00PM
URL:https://oliverfinley.com/event/brazilian-wax-clinic-7/
LOCATION:Oliver Finley Academy\, 6843 N Strawberry Glen\, Boise\, ID\, 83714\, United States
CATEGORIES:Waxing
ORGANIZER;CN="Emily Robinson":MAILTO:emilyrobinson@oliverfinley.com
END:VEVENT
BEGIN:VEVENT
DTSTART;TZID=America/Boise:20260217T130000
DTEND;TZID=America/Boise:20260217T160000
DTSTAMP:20260425T070033
CREATED:20260126T180533Z
LAST-MODIFIED:20260127T223037Z
UID:10000492-1771333200-1771344000@oliverfinley.com
SUMMARY:Esthetics: Brow Baby Salon & Brow Bar Microblading Demonstration
DESCRIPTION:Esthetics: Brow Baby Salon & Brow Bar Microblading Demonstration\n\nRequirement: Mandatory for esthetics basics. Open to cosmetology students who have completed Cos Esthetics\, cos and esthetics alumni.\nOverview: Madison Lippert\, owner of Brow Baby Salon & Brow Bar will be here to share her journey and demonstrate brow microblading and client consultation.\nMax Capacity: 18\nLocation: Annex Auditorium\nTime: 1:00PM-4:00PM
URL:https://oliverfinley.com/event/esthetics-brow-baby-salon-brow-bar-microblading-demonstration/
LOCATION:Oliver Finley Academy\, 6843 N Strawberry Glen\, Boise\, ID\, 83714\, United States
CATEGORIES:Advanced Esthetics Modalities
ORGANIZER;CN="Emily Robinson":MAILTO:emilyrobinson@oliverfinley.com
END:VEVENT
BEGIN:VEVENT
DTSTART;TZID=America/Boise:20260217T173000
DTEND;TZID=America/Boise:20260217T190000
DTSTAMP:20260425T070033
CREATED:20260123T153630Z
LAST-MODIFIED:20260123T203057Z
UID:10000474-1771349400-1771354800@oliverfinley.com
SUMMARY:Brazilian Wax Theory: Night Esthetics and Alumni Only
DESCRIPTION:Overview: Learn the theory behind performing a safe and professional Brazilian Wax\nOpen to: Night esthetics students\, cos and esthetics alumni\nWhat to Bring: Students must find a model prior to the class start.\nMax Capacity: 12\nInstructor: Jordan Day\nLocation: Annex Cos Esthetics Classroom\nTime: 5:30PM-7:00PM
URL:https://oliverfinley.com/event/brazilian-wax-theory-night-esthetics-and-alumni-only/
LOCATION:Oliver Finley Academy\, 6843 N Strawberry Glen\, Boise\, ID\, 83714\, United States
CATEGORIES:Waxing
ORGANIZER;CN="Emily Robinson":MAILTO:emilyrobinson@oliverfinley.com
END:VEVENT
BEGIN:VEVENT
DTSTART;TZID=America/Boise:20260218T173000
DTEND;TZID=America/Boise:20260218T210000
DTSTAMP:20260425T070033
CREATED:20260123T200004Z
LAST-MODIFIED:20260123T200004Z
UID:10000485-1771435800-1771448400@oliverfinley.com
SUMMARY:Brazilian Wax Clinic: Night Students Only
DESCRIPTION:Overview: Gain confidence performing Brazilian waxing with Berodin hard or soft wax in a one-on-one setting. Choose to work with Hard or Soft wax to gain more practice in the Brazilian waxing field.\nOpen to: Night Esthetics students\nContraindications:\n\nCurrent or recent (within 6 months) use of Accutane or a generic equivalent\nChemical peels within the last 2 weeks\nHair shorter than ¼ inch in the treatment area\nRetinol use within the last 7 days on the treatment area\n\n\n\n\n\n\n\nWhat to Bring: Students must find a model prior to the class start.\nMax Capacity: 3\nInstructor: Kiana Doe\nLocation: Annex Cos Esthetics Classroom\nTime: 5:30PM-9:00PM
URL:https://oliverfinley.com/event/brazilian-wax-clinic-night-students-only/
LOCATION:Oliver Finley Academy\, 6843 N Strawberry Glen\, Boise\, ID\, 83714\, United States
CATEGORIES:Waxing
ORGANIZER;CN="Emily Robinson":MAILTO:emilyrobinson@oliverfinley.com
END:VEVENT
BEGIN:VEVENT
DTSTART;TZID=America/Boise:20260219T173000
DTEND;TZID=America/Boise:20260219T210000
DTSTAMP:20260425T070033
CREATED:20260123T200455Z
LAST-MODIFIED:20260123T200852Z
UID:10000486-1771522200-1771534800@oliverfinley.com
SUMMARY:Sensitive\, Sensitized\, and other Sensitive Skin Conditions: Night Students and Alumni Only
DESCRIPTION:Overview: Hands-on training in treating sensitive/sensitized/rosacea skin with Hale & Hush products. Service exchange included.\n\n\nOpen to: Night esthetics students\, cos and esthetics alumni\n\n\nMax Capacity: 12\nInstructor: Jordan Day\nLocation: Annex Cos Esthetics Classroom\nTime: 1:00PM-4:00PM
URL:https://oliverfinley.com/event/sensitive-sensitized-and-other-sensitive-skin-conditions-night-students-and-alumni-only/
LOCATION:Oliver Finley Academy\, 6843 N Strawberry Glen\, Boise\, ID\, 83714\, United States
CATEGORIES:and Sensitive Skin Conditions,Continuing Education,Sensitized,Senstive
ORGANIZER;CN="Emily Robinson":MAILTO:emilyrobinson@oliverfinley.com
END:VEVENT
BEGIN:VEVENT
DTSTART;TZID=America/Boise:20260223T130000
DTEND;TZID=America/Boise:20260223T160000
DTSTAMP:20260425T070033
CREATED:20251211T172037Z
LAST-MODIFIED:20251211T172058Z
UID:10000460-1771851600-1771862400@oliverfinley.com
SUMMARY:Sensitive\, Sensitized\, and other Sensitive Skin Conditions
DESCRIPTION:Overview: Hands-on training in treating sensitive/sensitized/rosacea skin with Hale & Hush products. Service exchange included.\n\n\nPrerequisite Must be an esthetic junior\, senior\, or alumni or cos student or alumni who have completed cos e: skin & wax weeks.\n\n\nMax Capacity: 18\nInstructor: Rikki McCullough\nLocation: Annex Cos Esthetics Classroom\nTime: 1:00PM-4:00PM
URL:https://oliverfinley.com/event/sensitive-sensitized-and-other-sensitive-skin-conditions-10/
LOCATION:Oliver Finley Academy\, 6843 N Strawberry Glen\, Boise\, ID\, 83714\, United States
CATEGORIES:and Sensitive Skin Conditions,Continuing Education,Sensitized,Senstive
ORGANIZER;CN="Emily Robinson":MAILTO:emilyrobinson@oliverfinley.com
END:VEVENT
END:VCALENDAR