BEGIN:VCALENDAR
VERSION:2.0
PRODID:-//Oliver Finley Site - ECPv6.15.20//NONSGML v1.0//EN
CALSCALE:GREGORIAN
METHOD:PUBLISH
X-WR-CALNAME:Oliver Finley Site
X-ORIGINAL-URL:https://oliverfinley.com
X-WR-CALDESC:Events for Oliver Finley Site
REFRESH-INTERVAL;VALUE=DURATION:PT1H
X-Robots-Tag:noindex
X-PUBLISHED-TTL:PT1H
BEGIN:VTIMEZONE
TZID:America/Boise
BEGIN:DAYLIGHT
TZOFFSETFROM:-0700
TZOFFSETTO:-0600
TZNAME:MDT
DTSTART:20230312T090000
END:DAYLIGHT
BEGIN:STANDARD
TZOFFSETFROM:-0600
TZOFFSETTO:-0700
TZNAME:MST
DTSTART:20231105T080000
END:STANDARD
BEGIN:DAYLIGHT
TZOFFSETFROM:-0700
TZOFFSETTO:-0600
TZNAME:MDT
DTSTART:20240310T090000
END:DAYLIGHT
BEGIN:STANDARD
TZOFFSETFROM:-0600
TZOFFSETTO:-0700
TZNAME:MST
DTSTART:20241103T080000
END:STANDARD
BEGIN:DAYLIGHT
TZOFFSETFROM:-0700
TZOFFSETTO:-0600
TZNAME:MDT
DTSTART:20250309T090000
END:DAYLIGHT
BEGIN:STANDARD
TZOFFSETFROM:-0600
TZOFFSETTO:-0700
TZNAME:MST
DTSTART:20251102T080000
END:STANDARD
END:VTIMEZONE
BEGIN:VEVENT
DTSTART;VALUE=DATE:20240514
DTEND;VALUE=DATE:20240515
DTSTAMP:20260425T182047
CREATED:20240214T012325Z
LAST-MODIFIED:20240214T012325Z
UID:10000034-1715644800-1715731199@oliverfinley.com
SUMMARY:New Night Esthetics Class Starts
DESCRIPTION:
URL:https://oliverfinley.com/event/new-night-esthetics-class-starts/
LOCATION:ID
END:VEVENT
BEGIN:VEVENT
DTSTART;TZID=America/Boise:20240514T093000
DTEND;TZID=America/Boise:20240514T120000
DTSTAMP:20260425T182047
CREATED:20240327T145513Z
LAST-MODIFIED:20240327T145513Z
UID:10000062-1715679000-1715688000@oliverfinley.com
SUMMARY:Pretty in a Minute Hair Show
DESCRIPTION:Experience a hair show from the convenience of Oliver Finley Academy. Afterwards you’ll learn about the styling products and hot styling tools Pretty in a Minute has to offer. \nThis event is mandatory for cosmetology students and alumni is welcome to attend.
URL:https://oliverfinley.com/event/pretty-in-a-minute-hair-show/
LOCATION:Auditorium\, On Campus
ORGANIZER;CN="Christy Casper":MAILTO:christy@oliverfinley.com
END:VEVENT
BEGIN:VEVENT
DTSTART;TZID=America/Boise:20240514T130000
DTEND;TZID=America/Boise:20240514T150000
DTSTAMP:20260425T182047
CREATED:20240419T165324Z
LAST-MODIFIED:20240419T165509Z
UID:10000070-1715691600-1715698800@oliverfinley.com
SUMMARY:Aesthetics Academy of Idaho Medical Spa Treatment Demonstration
DESCRIPTION:Microneedling the Face with Light Treatment: Microneedling is a form of collagen induction therapy performed to improve product penetration\, reduce wrinkles\, fine lines\, and pigmentation\, as well as promote collagen production for younger looking skin. Email danyca@oliverfinley.com to register. \nThis class is demonstration only. Instructor: Marti Hutchinson of Mspa and Idaho Academy of Aesthetics
URL:https://oliverfinley.com/event/aesthetics-academy-of-idaho-medical-spa-treatment-demonstration/
LOCATION:Auditorium\, On Campus
ORGANIZER;CN="Emily Robinson":MAILTO:emilyrobinson@oliverfinley.com
END:VEVENT
BEGIN:VEVENT
DTSTART;TZID=America/Boise:20240514T150000
DTEND;TZID=America/Boise:20240514T163000
DTSTAMP:20260425T182047
CREATED:20240419T165908Z
LAST-MODIFIED:20240419T165908Z
UID:10000071-1715698800-1715704200@oliverfinley.com
SUMMARY:Branding
DESCRIPTION:Branding (Mandatory for basics or freshman – all departments): Learn the basics of creating a brand and marketing yourself in the beauty industry. \nemail danyca@oliverfinley.com \nInstructor: Emily Robinson \n3-430pm Auditorium
URL:https://oliverfinley.com/event/branding/
LOCATION:Auditorium\, On Campus
ORGANIZER;CN="Emily Robinson":MAILTO:emilyrobinson@oliverfinley.com
END:VEVENT
END:VCALENDAR