BEGIN:VCALENDAR
VERSION:2.0
PRODID:-//Oliver Finley Site - ECPv6.15.20//NONSGML v1.0//EN
CALSCALE:GREGORIAN
METHOD:PUBLISH
X-ORIGINAL-URL:https://oliverfinley.com
X-WR-CALDESC:Events for Oliver Finley Site
REFRESH-INTERVAL;VALUE=DURATION:PT1H
X-Robots-Tag:noindex
X-PUBLISHED-TTL:PT1H
BEGIN:VTIMEZONE
TZID:America/Boise
BEGIN:DAYLIGHT
TZOFFSETFROM:-0700
TZOFFSETTO:-0600
TZNAME:MDT
DTSTART:20230312T090000
END:DAYLIGHT
BEGIN:STANDARD
TZOFFSETFROM:-0600
TZOFFSETTO:-0700
TZNAME:MST
DTSTART:20231105T080000
END:STANDARD
BEGIN:DAYLIGHT
TZOFFSETFROM:-0700
TZOFFSETTO:-0600
TZNAME:MDT
DTSTART:20240310T090000
END:DAYLIGHT
BEGIN:STANDARD
TZOFFSETFROM:-0600
TZOFFSETTO:-0700
TZNAME:MST
DTSTART:20241103T080000
END:STANDARD
BEGIN:DAYLIGHT
TZOFFSETFROM:-0700
TZOFFSETTO:-0600
TZNAME:MDT
DTSTART:20250309T090000
END:DAYLIGHT
BEGIN:STANDARD
TZOFFSETFROM:-0600
TZOFFSETTO:-0700
TZNAME:MST
DTSTART:20251102T080000
END:STANDARD
END:VTIMEZONE
BEGIN:VEVENT
DTSTART;TZID=America/Boise:20240424T130000
DTEND;TZID=America/Boise:20240424T163000
DTSTAMP:20260423T211952
CREATED:20240321T165435Z
LAST-MODIFIED:20240321T165604Z
UID:10000060-1713963600-1713976200@oliverfinley.com
SUMMARY:Lira Clinical GPS 1 & 2 Peels (Must pass qualification exam to attend)
DESCRIPTION:Lira Clinical GPS 1 & 2 Peels (Must pass qualification exam to attend) \nPrerequisite: Cosmetology students and graduates must have completed Cos Esthetics Skin and Wax Week and Lira Clinical Product Knowledge. Esthetics students must have completed basics and Lira Clinical Product Knowledge. Students have also passed the qualification exam. \nInstructor: Melissa Gilbertson Coffett from Lira Clinical \n1-430pm Auditorium \nEmail emilyrobinson@oliverfinley.com to arrange for testing and registration
URL:https://oliverfinley.com/event/lira-clinical-gps-1-2-peels-must-pass-qualification-exam-to-attend/
LOCATION:Auditorium\, On Campus
ORGANIZER;CN="Emily Robinson":MAILTO:emilyrobinson@oliverfinley.com
END:VEVENT
END:VCALENDAR